BEGIN:VCALENDAR
VERSION:2.0
PRODID:-//ChamberMaster//Event Calendar 2.0//EN
METHOD:PUBLISH
X-PUBLISHED-TTL:P1H
REFRESH-INTERVAL:P1H
CALSCALE:GREGORIAN
BEGIN:VTIMEZONE
TZID:America/Chicago
BEGIN:DAYLIGHT
RRULE:FREQ=YEARLY;BYMONTH=3;BYDAY=2SU
DTSTART:20070101T000000
TZOFFSETFROM:-0600
TZOFFSETTO:-0500
TZNAME:Central Daylight Time
END:DAYLIGHT
BEGIN:STANDARD
RRULE:FREQ=YEARLY;BYMONTH=11;BYDAY=1SU
DTSTART:20070101T000000
TZOFFSETFROM:-0500
TZOFFSETTO:-0600
TZNAME:Central Standard Time
END:STANDARD
END:VTIMEZONE
BEGIN:VEVENT
DTSTART;TZID=America/Chicago:20260409T090000
DTEND;TZID=America/Chicago:20260409T110000
X-MICROSOFT-CDO-ALLDAYEVENT:FALSE
SUMMARY:040926 SAR Membership Breakfast: Fair Housing Month
DESCRIPTION:Association updates by Cheri Barrington\, 2026 SAR President. Fair Housing presentation by Nate K. Johnson. (https://www.nar.realtor/nate-k-johnson) Attendees bringing non-perishable items for the SAR Blessings Box will receive additional chance in the door prize drawing. SAR members may attend as a member benefit. Guests will be billed $15 after the event.
X-ALT-DESC;FMTTYPE=text/html:<!DOCTYPE html><html><head><title></title></head><body aria-disabled="false"><p>Association updates by Cheri Barrington\, 2026 SAR President. Fair Housing presentation by Nate K. Johnson. (https://www.nar.realtor/nate-k-johnson) Attendees bringing non-perishable items for the SAR Blessings Box will receive additional chance in the door prize drawing. SAR members may attend as a member benefit. Guests will be billed $15 after the event.</p></body></html>
LOCATION:400 SW 33rd Street Topeka KS 66611
UID:e.3710.1422339
SEQUENCE:3
DTSTAMP:20260419T131108Z
URL:https://business.sunflowerrealtors.com/educationcalendar/Details/040926-sar-membership-breakfast-fair-housing-month-1681733?sourceTypeId=Hub
END:VEVENT
END:VCALENDAR
